BEGIN:VCALENDAR
VERSION:2.0
PRODID:-//EAR - American School of Recife - ECPv6.0.4//NONSGML v1.0//EN
CALSCALE:GREGORIAN
METHOD:PUBLISH
X-WR-CALNAME:EAR - American School of Recife
X-ORIGINAL-URL:https://www.ear.com.br
X-WR-CALDESC:Events for EAR - American School of Recife
REFRESH-INTERVAL;VALUE=DURATION:PT1H
X-Robots-Tag:noindex
X-PUBLISHED-TTL:PT1H
BEGIN:VTIMEZONE
TZID:America/Sao_Paulo
BEGIN:STANDARD
TZOFFSETFROM:-0300
TZOFFSETTO:-0300
TZNAME:-03
DTSTART:20220101T000000
END:STANDARD
TZID:UTC
BEGIN:STANDARD
TZOFFSETFROM:+0000
TZOFFSETTO:+0000
TZNAME:UTC
DTSTART:20220101T000000
END:STANDARD
END:VTIMEZONE
BEGIN:VEVENT
DTSTART;VALUE=DATE:20220617
DTEND;VALUE=DATE:20220618
DTSTAMP:20260420T102209
CREATED:20220224T192835Z
LAST-MODIFIED:20220224T193813Z
UID:20462-1655424000-1655510399@www.ear.com.br
SUMMARY:2nd Semester Ends
DESCRIPTION:Half-Day
URL:https://www.ear.com.br/event/2nd-semester-ends/
LOCATION:2nd Semester Ends
CATEGORIES:Quarter Begin/End
END:VEVENT
BEGIN:VEVENT
DTSTART;VALUE=DATE:20220411
DTEND;VALUE=DATE:20220412
DTSTAMP:20260420T102209
CREATED:20220224T183139Z
LAST-MODIFIED:20220224T183139Z
UID:20390-1649635200-1649721599@www.ear.com.br
SUMMARY:4th Quarter Begins
DESCRIPTION:
URL:https://www.ear.com.br/event/4th-quarter-begins/
LOCATION:2nd Semester Ends
CATEGORIES:Quarter Begin/End
END:VEVENT
BEGIN:VEVENT
DTSTART;VALUE=DATE:20220408
DTEND;VALUE=DATE:20220409
DTSTAMP:20260420T102209
CREATED:20220224T182930Z
LAST-MODIFIED:20220224T182930Z
UID:20388-1649376000-1649462399@www.ear.com.br
SUMMARY:3rd Quarter Ends
DESCRIPTION:
URL:https://www.ear.com.br/event/3rd-quarter-ends/
LOCATION:2nd Semester Ends
CATEGORIES:Quarter Begin/End
END:VEVENT
BEGIN:VEVENT
DTSTART;VALUE=DATE:20220124
DTEND;VALUE=DATE:20220125
DTSTAMP:20260420T102209
CREATED:20211217T123939Z
LAST-MODIFIED:20211217T124213Z
UID:12454-1642982400-1643068799@www.ear.com.br
SUMMARY:2nd Semester Begins
DESCRIPTION:
URL:https://www.ear.com.br/event/teacher-in-service/
LOCATION:2nd Semester Ends
CATEGORIES:Quarter Begin/End
END:VEVENT
END:VCALENDAR